BEGIN:VCALENDAR
VERSION:2.0
PRODID:-//hacksw/handcal//NONSGML v1.0//EN
BEGIN:VEVENT
SUMMARY:Cours premiere annee
UID:332f6f33-a43a-4202-ad9b-7b7d115c53de
DTSTART:20271030T120000Z
DTEND:20271030T133000Z
LOCATION:Localisation   
CATEGORIES:Sportif
STATUS:
URL;VALUE=URI:https://archers-de-quimperle.sportsregions.fr/evenements/2027/10/30/cours-premiere-annee-2428011
END:VEVENT
END:VCALENDAR
