BEGIN:VCALENDAR
VERSION:2.0
PRODID:-//hacksw/handcal//NONSGML v1.0//EN
BEGIN:VEVENT
SUMMARY:Cours deuxieme et +
UID:f0f3519f-9c57-4656-9c06-a78f97290f3f
DTSTART:20271106T143000Z
DTEND:20271106T160000Z
LOCATION:Localisation   
CATEGORIES:Sportif
STATUS:
URL;VALUE=URI:https://archers-de-quimperle.sportsregions.fr/evenements/2027/11/06/cours-deuxieme-et-2428174
END:VEVENT
END:VCALENDAR
