BEGIN:VCALENDAR
VERSION:2.0
PRODID:-//hacksw/handcal//NONSGML v1.0//EN
BEGIN:VEVENT
SUMMARY:Cours premiere annee
UID:fe9ce388-7a34-45e2-991c-462fabb13c04
DTSTART:20271106T130000Z
DTEND:20271106T143000Z
LOCATION:Localisation   
CATEGORIES:Sportif
STATUS:
URL;VALUE=URI:https://archers-de-quimperle.sportsregions.fr/evenements/2027/11/06/cours-premiere-annee-2428020
END:VEVENT
END:VCALENDAR
