BEGIN:VCALENDAR
VERSION:2.0
PRODID:-//hacksw/handcal//NONSGML v1.0//EN
BEGIN:VEVENT
SUMMARY:Entrainement libre
UID:d704fc05-917d-470e-9048-c34c85edb081
DTSTART:20271106T160000Z
DTEND:20271106T190000Z
LOCATION:Localisation   
CATEGORIES:Sportif
STATUS:
URL;VALUE=URI:https://archers-de-quimperle.sportsregions.fr/evenements/2027/11/06/entrainement-libre-2428328
END:VEVENT
END:VCALENDAR
