BEGIN:VCALENDAR
VERSION:2.0
PRODID:-//hacksw/handcal//NONSGML v1.0//EN
BEGIN:VEVENT
SUMMARY:Cours premiere annee
UID:6b02988b-e08b-4f93-bcd0-02e7d216f164
DTSTART:20271113T130000Z
DTEND:20271113T143000Z
LOCATION:Localisation   
CATEGORIES:Sportif
STATUS:
URL;VALUE=URI:https://archers-de-quimperle.sportsregions.fr/evenements/2027/11/13/cours-premiere-annee-2428028
END:VEVENT
END:VCALENDAR
