BEGIN:VCALENDAR
VERSION:2.0
PRODID:-//hacksw/handcal//NONSGML v1.0//EN
BEGIN:VEVENT
SUMMARY:Entrainement libre
UID:edabb31c-d689-46a2-ae76-3764d8897690
DTSTART:20271113T160000Z
DTEND:20271113T190000Z
LOCATION:Localisation   
CATEGORIES:Sportif
STATUS:
URL;VALUE=URI:https://archers-de-quimperle.sportsregions.fr/evenements/2027/11/13/entrainement-libre-2428336
END:VEVENT
END:VCALENDAR
