BEGIN:VCALENDAR
VERSION:2.0
PRODID:-//hacksw/handcal//NONSGML v1.0//EN
BEGIN:VEVENT
SUMMARY:Cours deuxieme et +
UID:3c8fef56-27e6-4115-b26c-7d0649e81038
DTSTART:20271120T143000Z
DTEND:20271120T160000Z
LOCATION:Localisation   
CATEGORIES:Sportif
STATUS:
URL;VALUE=URI:https://archers-de-quimperle.sportsregions.fr/evenements/2027/11/20/cours-deuxieme-et-2428180
END:VEVENT
END:VCALENDAR
