BEGIN:VCALENDAR
VERSION:2.0
PRODID:-//hacksw/handcal//NONSGML v1.0//EN
BEGIN:VEVENT
SUMMARY:Cours premiere annee
UID:679685e1-86a2-4fd0-be5f-f1f1c0029c74
DTSTART:20271120T130000Z
DTEND:20271120T143000Z
LOCATION:Localisation   
CATEGORIES:Sportif
STATUS:
URL;VALUE=URI:https://archers-de-quimperle.sportsregions.fr/evenements/2027/11/20/cours-premiere-annee-2428026
END:VEVENT
END:VCALENDAR
