BEGIN:VCALENDAR
VERSION:2.0
PRODID:-//hacksw/handcal//NONSGML v1.0//EN
BEGIN:VEVENT
SUMMARY:Entrainement libre
UID:f7cc4f4d-7155-4cb3-bbad-30ffcb376fbb
DTSTART:20271120T160000Z
DTEND:20271120T190000Z
LOCATION:Localisation   
CATEGORIES:Sportif
STATUS:
URL;VALUE=URI:https://archers-de-quimperle.sportsregions.fr/evenements/2027/11/20/entrainement-libre-2428334
END:VEVENT
END:VCALENDAR
