BEGIN:VCALENDAR
VERSION:2.0
PRODID:-//hacksw/handcal//NONSGML v1.0//EN
BEGIN:VEVENT
SUMMARY:Cours deuxieme et +
UID:ec5cec1d-b3a3-456a-abb2-0272441ee6c8
DTSTART:20271127T143000Z
DTEND:20271127T160000Z
LOCATION:Localisation   
CATEGORIES:Sportif
STATUS:
URL;VALUE=URI:https://archers-de-quimperle.sportsregions.fr/evenements/2027/11/27/cours-deuxieme-et-2428179
END:VEVENT
END:VCALENDAR
