BEGIN:VCALENDAR
VERSION:2.0
PRODID:-//hacksw/handcal//NONSGML v1.0//EN
BEGIN:VEVENT
SUMMARY:Entrainement libre
UID:e631402c-0074-40b6-99fa-c14f3632f1dc
DTSTART:20271127T160000Z
DTEND:20271127T190000Z
LOCATION:Localisation   
CATEGORIES:Sportif
STATUS:
URL;VALUE=URI:https://archers-de-quimperle.sportsregions.fr/evenements/2027/11/27/entrainement-libre-2428333
END:VEVENT
END:VCALENDAR
