BEGIN:VCALENDAR
VERSION:2.0
PRODID:-//hacksw/handcal//NONSGML v1.0//EN
BEGIN:VEVENT
SUMMARY:Cours deuxieme et +
UID:b6832464-c55d-4725-be05-496b5519572f
DTSTART:20271204T143000Z
DTEND:20271204T160000Z
LOCATION:Localisation   
CATEGORIES:Sportif
STATUS:
URL;VALUE=URI:https://archers-de-quimperle.sportsregions.fr/evenements/2027/12/04/cours-deuxieme-et-2428178
END:VEVENT
END:VCALENDAR
