BEGIN:VCALENDAR
VERSION:2.0
PRODID:-//hacksw/handcal//NONSGML v1.0//EN
BEGIN:VEVENT
SUMMARY:Cours deuxieme et +
UID:8a4a8271-4516-4682-b2b4-d652b4c3fe96
DTSTART:20271211T143000Z
DTEND:20271211T160000Z
LOCATION:Localisation   
CATEGORIES:Sportif
STATUS:
URL;VALUE=URI:https://archers-de-quimperle.sportsregions.fr/evenements/2027/12/11/cours-deuxieme-et-2428177
END:VEVENT
END:VCALENDAR
