BEGIN:VCALENDAR
VERSION:2.0
PRODID:-//hacksw/handcal//NONSGML v1.0//EN
BEGIN:VEVENT
SUMMARY:Entrainement libre
UID:51fc378e-4703-406b-9c8b-e657edc0a5e9
DTSTART:20271211T160000Z
DTEND:20271211T190000Z
LOCATION:Localisation   
CATEGORIES:Sportif
STATUS:
URL;VALUE=URI:https://archers-de-quimperle.sportsregions.fr/evenements/2027/12/11/entrainement-libre-2428331
END:VEVENT
END:VCALENDAR
