BEGIN:VCALENDAR
VERSION:2.0
PRODID:-//hacksw/handcal//NONSGML v1.0//EN
BEGIN:VEVENT
SUMMARY:Cours deuxieme et +
UID:c7f38866-c532-43fe-b56f-dd73f9d3558b
DTSTART:20271218T143000Z
DTEND:20271218T160000Z
LOCATION:Localisation   
CATEGORIES:Sportif
STATUS:
URL;VALUE=URI:https://archers-de-quimperle.sportsregions.fr/evenements/2027/12/18/cours-deuxieme-et-2428176
END:VEVENT
END:VCALENDAR
