BEGIN:VCALENDAR
VERSION:2.0
PRODID:-//hacksw/handcal//NONSGML v1.0//EN
BEGIN:VEVENT
SUMMARY:Cours premiere annee
UID:206a1086-2560-42dc-b1d2-53167ba51701
DTSTART:20271218T130000Z
DTEND:20271218T143000Z
LOCATION:Localisation   
CATEGORIES:Sportif
STATUS:
URL;VALUE=URI:https://archers-de-quimperle.sportsregions.fr/evenements/2027/12/18/cours-premiere-annee-2428022
END:VEVENT
END:VCALENDAR
