BEGIN:VCALENDAR
VERSION:2.0
PRODID:-//hacksw/handcal//NONSGML v1.0//EN
BEGIN:VEVENT
SUMMARY:Entrainement libre
UID:b8bc6964-69b2-4cab-9f3c-64bffebcdac0
DTSTART:20271218T160000Z
DTEND:20271218T190000Z
LOCATION:Localisation   
CATEGORIES:Sportif
STATUS:
URL;VALUE=URI:https://archers-de-quimperle.sportsregions.fr/evenements/2027/12/18/entrainement-libre-2428330
END:VEVENT
END:VCALENDAR
