BEGIN:VCALENDAR
VERSION:2.0
PRODID:-//hacksw/handcal//NONSGML v1.0//EN
BEGIN:VEVENT
SUMMARY:Cours deuxieme et +
UID:b251e027-e8e7-4e9b-b8b6-7919f7920a13
DTSTART:20271225T143000Z
DTEND:20271225T160000Z
LOCATION:Localisation   
CATEGORIES:Sportif
STATUS:
URL;VALUE=URI:https://archers-de-quimperle.sportsregions.fr/evenements/2027/12/25/cours-deuxieme-et-2428175
END:VEVENT
END:VCALENDAR
