BEGIN:VCALENDAR
VERSION:2.0
PRODID:-//hacksw/handcal//NONSGML v1.0//EN
BEGIN:VEVENT
SUMMARY:Cours premiere annee
UID:804623cc-b9c6-4888-9806-4b13c91a9c72
DTSTART:20271225T130000Z
DTEND:20271225T143000Z
LOCATION:Localisation   
CATEGORIES:Sportif
STATUS:
URL;VALUE=URI:https://archers-de-quimperle.sportsregions.fr/evenements/2027/12/25/cours-premiere-annee-2428021
END:VEVENT
END:VCALENDAR
