BEGIN:VCALENDAR
VERSION:2.0
PRODID:-//hacksw/handcal//NONSGML v1.0//EN
BEGIN:VEVENT
SUMMARY:Entrainement libre
UID:3a06d525-5e17-4d31-8946-9ed147d8fd30
DTSTART:20271225T160000Z
DTEND:20271225T190000Z
LOCATION:Localisation   
CATEGORIES:Sportif
STATUS:
URL;VALUE=URI:https://archers-de-quimperle.sportsregions.fr/evenements/2027/12/25/entrainement-libre-2428329
END:VEVENT
END:VCALENDAR
