BEGIN:VCALENDAR
VERSION:2.0
PRODID:-//hacksw/handcal//NONSGML v1.0//EN
BEGIN:VEVENT
SUMMARY:Cours deuxieme et +
UID:50ba3661-96a1-46ba-acbb-b7f9e885e634
DTSTART:20280108T143000Z
DTEND:20280108T160000Z
LOCATION:Localisation   
CATEGORIES:Sportif
STATUS:
URL;VALUE=URI:https://archers-de-quimperle.sportsregions.fr/evenements/2028/01/08/cours-deuxieme-et-2428164
END:VEVENT
END:VCALENDAR
