BEGIN:VCALENDAR
VERSION:2.0
PRODID:-//hacksw/handcal//NONSGML v1.0//EN
BEGIN:VEVENT
SUMMARY:Cours premiere annee
UID:66f00ead-fea5-4809-a3ef-8169589ecd7b
DTSTART:20280108T130000Z
DTEND:20280108T143000Z
LOCATION:Localisation   
CATEGORIES:Sportif
STATUS:
URL;VALUE=URI:https://archers-de-quimperle.sportsregions.fr/evenements/2028/01/08/cours-premiere-annee-2428010
END:VEVENT
END:VCALENDAR
