BEGIN:VCALENDAR
VERSION:2.0
PRODID:-//hacksw/handcal//NONSGML v1.0//EN
BEGIN:VEVENT
SUMMARY:Entrainement libre
UID:7575f0f3-a290-4197-98a7-19793b677117
DTSTART:20280108T160000Z
DTEND:20280108T190000Z
LOCATION:Localisation   
CATEGORIES:Sportif
STATUS:
URL;VALUE=URI:https://archers-de-quimperle.sportsregions.fr/evenements/2028/01/08/entrainement-libre-2428318
END:VEVENT
END:VCALENDAR
