BEGIN:VCALENDAR
VERSION:2.0
PRODID:-//hacksw/handcal//NONSGML v1.0//EN
BEGIN:VEVENT
SUMMARY:Cours deuxieme et +
UID:0db6f956-af79-4257-b3c5-39bd6bc6d7a8
DTSTART:20280115T143000Z
DTEND:20280115T160000Z
LOCATION:Localisation   
CATEGORIES:Sportif
STATUS:
URL;VALUE=URI:https://archers-de-quimperle.sportsregions.fr/evenements/2028/01/15/cours-deuxieme-et-2428169
END:VEVENT
END:VCALENDAR
