BEGIN:VCALENDAR
VERSION:2.0
PRODID:-//hacksw/handcal//NONSGML v1.0//EN
BEGIN:VEVENT
SUMMARY:Cours premiere annee
UID:53138038-5b7d-403d-b0e2-f97e42f20250
DTSTART:20280115T130000Z
DTEND:20280115T143000Z
LOCATION:Localisation   
CATEGORIES:Sportif
STATUS:
URL;VALUE=URI:https://archers-de-quimperle.sportsregions.fr/evenements/2028/01/15/cours-premiere-annee-2428015
END:VEVENT
END:VCALENDAR
