BEGIN:VCALENDAR
VERSION:2.0
PRODID:-//hacksw/handcal//NONSGML v1.0//EN
BEGIN:VEVENT
SUMMARY:Entrainement libre
UID:82178069-ef42-4442-8aef-582d87913579
DTSTART:20280115T160000Z
DTEND:20280115T190000Z
LOCATION:Localisation   
CATEGORIES:Sportif
STATUS:
URL;VALUE=URI:https://archers-de-quimperle.sportsregions.fr/evenements/2028/01/15/entrainement-libre-2428323
END:VEVENT
END:VCALENDAR
