BEGIN:VCALENDAR
VERSION:2.0
PRODID:-//hacksw/handcal//NONSGML v1.0//EN
BEGIN:VEVENT
SUMMARY:Cours deuxieme et +
UID:53483075-ce7f-4b76-852f-cda673f10e37
DTSTART:20280122T143000Z
DTEND:20280122T160000Z
LOCATION:Localisation   
CATEGORIES:Sportif
STATUS:
URL;VALUE=URI:https://archers-de-quimperle.sportsregions.fr/evenements/2028/01/22/cours-deuxieme-et-2428188
END:VEVENT
END:VCALENDAR
