BEGIN:VCALENDAR
VERSION:2.0
PRODID:-//hacksw/handcal//NONSGML v1.0//EN
BEGIN:VEVENT
SUMMARY:Entrainement libre
UID:ae8fd202-f03f-4701-b9d3-f60fb366e87a
DTSTART:20280122T160000Z
DTEND:20280122T190000Z
LOCATION:Localisation   
CATEGORIES:Sportif
STATUS:
URL;VALUE=URI:https://archers-de-quimperle.sportsregions.fr/evenements/2028/01/22/entrainement-libre-2428342
END:VEVENT
END:VCALENDAR
