BEGIN:VCALENDAR
VERSION:2.0
PRODID:-//hacksw/handcal//NONSGML v1.0//EN
BEGIN:VEVENT
SUMMARY:Cours deuxieme et +
UID:7cd4b007-c37d-4fdc-b47f-8cf21d9f22a8
DTSTART:20280129T143000Z
DTEND:20280129T160000Z
LOCATION:Localisation   
CATEGORIES:Sportif
STATUS:
URL;VALUE=URI:https://archers-de-quimperle.sportsregions.fr/evenements/2028/01/29/cours-deuxieme-et-2428185
END:VEVENT
END:VCALENDAR
