BEGIN:VCALENDAR
VERSION:2.0
PRODID:-//hacksw/handcal//NONSGML v1.0//EN
BEGIN:VEVENT
SUMMARY:Cours premiere annee
UID:00467f5e-5c86-405b-b209-a9bab27d15b2
DTSTART:20280129T130000Z
DTEND:20280129T143000Z
LOCATION:Localisation   
CATEGORIES:Sportif
STATUS:
URL;VALUE=URI:https://archers-de-quimperle.sportsregions.fr/evenements/2028/01/29/cours-premiere-annee-2428031
END:VEVENT
END:VCALENDAR
