BEGIN:VCALENDAR
VERSION:2.0
PRODID:-//hacksw/handcal//NONSGML v1.0//EN
BEGIN:VEVENT
SUMMARY:Entrainement libre
UID:1bf571e0-524c-4f86-8f57-eaca7a26656b
DTSTART:20280129T160000Z
DTEND:20280129T190000Z
LOCATION:Localisation   
CATEGORIES:Sportif
STATUS:
URL;VALUE=URI:https://archers-de-quimperle.sportsregions.fr/evenements/2028/01/29/entrainement-libre-2428339
END:VEVENT
END:VCALENDAR
