BEGIN:VCALENDAR
VERSION:2.0
PRODID:-//hacksw/handcal//NONSGML v1.0//EN
BEGIN:VEVENT
SUMMARY:Cours deuxieme et +
UID:d04176fd-12a1-48d4-b6f6-3b55538c7a23
DTSTART:20280205T143000Z
DTEND:20280205T160000Z
LOCATION:Localisation   
CATEGORIES:Sportif
STATUS:
URL;VALUE=URI:https://archers-de-quimperle.sportsregions.fr/evenements/2028/02/05/cours-deuxieme-et-2428186
END:VEVENT
END:VCALENDAR
