BEGIN:VCALENDAR
VERSION:2.0
PRODID:-//hacksw/handcal//NONSGML v1.0//EN
BEGIN:VEVENT
SUMMARY:Cours premiere annee
UID:89532dda-0f30-4c56-93ee-27679e8ca9cb
DTSTART:20280205T130000Z
DTEND:20280205T143000Z
LOCATION:Localisation   
CATEGORIES:Sportif
STATUS:
URL;VALUE=URI:https://archers-de-quimperle.sportsregions.fr/evenements/2028/02/05/cours-premiere-annee-2428032
END:VEVENT
END:VCALENDAR
