BEGIN:VCALENDAR
VERSION:2.0
PRODID:-//hacksw/handcal//NONSGML v1.0//EN
BEGIN:VEVENT
SUMMARY:Cours deuxieme et +
UID:42d3803e-5527-4c07-b35c-2efad05cf441
DTSTART:20280212T143000Z
DTEND:20280212T160000Z
LOCATION:Localisation   
CATEGORIES:Sportif
STATUS:
URL;VALUE=URI:https://archers-de-quimperle.sportsregions.fr/evenements/2028/02/12/cours-deuxieme-et-2428192
END:VEVENT
END:VCALENDAR
