BEGIN:VCALENDAR
VERSION:2.0
PRODID:-//hacksw/handcal//NONSGML v1.0//EN
BEGIN:VEVENT
SUMMARY:Cours premiere annee
UID:d5b0ebf0-3f4d-4973-9139-3747f6505ff1
DTSTART:20280212T130000Z
DTEND:20280212T143000Z
LOCATION:Localisation   
CATEGORIES:Sportif
STATUS:
URL;VALUE=URI:https://archers-de-quimperle.sportsregions.fr/evenements/2028/02/12/cours-premiere-annee-2428038
END:VEVENT
END:VCALENDAR
