BEGIN:VCALENDAR
VERSION:2.0
PRODID:-//hacksw/handcal//NONSGML v1.0//EN
BEGIN:VEVENT
SUMMARY:Entrainement libre
UID:5d309c20-3fa2-444e-ae0b-452394289406
DTSTART:20280212T160000Z
DTEND:20280212T190000Z
LOCATION:Localisation   
CATEGORIES:Sportif
STATUS:
URL;VALUE=URI:https://archers-de-quimperle.sportsregions.fr/evenements/2028/02/12/entrainement-libre-2428346
END:VEVENT
END:VCALENDAR
