BEGIN:VCALENDAR
VERSION:2.0
PRODID:-//hacksw/handcal//NONSGML v1.0//EN
BEGIN:VEVENT
SUMMARY:Cours deuxieme et +
UID:c5f0cdad-872c-4977-85dc-9a3decf23fa2
DTSTART:20280219T143000Z
DTEND:20280219T160000Z
LOCATION:Localisation   
CATEGORIES:Sportif
STATUS:
URL;VALUE=URI:https://archers-de-quimperle.sportsregions.fr/evenements/2028/02/19/cours-deuxieme-et-2428191
END:VEVENT
END:VCALENDAR
