BEGIN:VCALENDAR
VERSION:2.0
PRODID:-//hacksw/handcal//NONSGML v1.0//EN
BEGIN:VEVENT
SUMMARY:Cours premiere annee
UID:23f8a71a-1bf0-49c3-b09b-102153f124b9
DTSTART:20280219T130000Z
DTEND:20280219T143000Z
LOCATION:Localisation   
CATEGORIES:Sportif
STATUS:
URL;VALUE=URI:https://archers-de-quimperle.sportsregions.fr/evenements/2028/02/19/cours-premiere-annee-2428037
END:VEVENT
END:VCALENDAR
