BEGIN:VCALENDAR
VERSION:2.0
PRODID:-//hacksw/handcal//NONSGML v1.0//EN
BEGIN:VEVENT
SUMMARY:Entrainement libre
UID:513096fd-a5af-4b6b-9528-c23685f63e20
DTSTART:20280219T160000Z
DTEND:20280219T190000Z
LOCATION:Localisation   
CATEGORIES:Sportif
STATUS:
URL;VALUE=URI:https://archers-de-quimperle.sportsregions.fr/evenements/2028/02/19/entrainement-libre-2428345
END:VEVENT
END:VCALENDAR
