BEGIN:VCALENDAR
VERSION:2.0
PRODID:-//hacksw/handcal//NONSGML v1.0//EN
BEGIN:VEVENT
SUMMARY:Entrainement libre
UID:f3804ba6-854f-4ecc-89ac-eca1ba9c6041
DTSTART:20280226T160000Z
DTEND:20280226T190000Z
LOCATION:Localisation   
CATEGORIES:Sportif
STATUS:
URL;VALUE=URI:https://archers-de-quimperle.sportsregions.fr/evenements/2028/02/26/entrainement-libre-2428344
END:VEVENT
END:VCALENDAR
