BEGIN:VCALENDAR
VERSION:2.0
PRODID:-//hacksw/handcal//NONSGML v1.0//EN
BEGIN:VEVENT
SUMMARY:Cours deuxieme et +
UID:4586fe06-d8a9-472e-96e5-3d40a393c646
DTSTART:20280304T143000Z
DTEND:20280304T160000Z
LOCATION:Localisation   
CATEGORIES:Sportif
STATUS:
URL;VALUE=URI:https://archers-de-quimperle.sportsregions.fr/evenements/2028/03/04/cours-deuxieme-et-2428189
END:VEVENT
END:VCALENDAR
