BEGIN:VCALENDAR
VERSION:2.0
PRODID:-//hacksw/handcal//NONSGML v1.0//EN
BEGIN:VEVENT
SUMMARY:Cours premiere annee
UID:f96590e2-d36b-4559-b937-107217af0d5a
DTSTART:20280304T130000Z
DTEND:20280304T143000Z
LOCATION:Localisation   
CATEGORIES:Sportif
STATUS:
URL;VALUE=URI:https://archers-de-quimperle.sportsregions.fr/evenements/2028/03/04/cours-premiere-annee-2428035
END:VEVENT
END:VCALENDAR
