BEGIN:VCALENDAR
VERSION:2.0
PRODID:-//hacksw/handcal//NONSGML v1.0//EN
BEGIN:VEVENT
SUMMARY:Entrainement libre
UID:4c59b682-35ab-43f1-b6c5-4731c4833623
DTSTART:20280304T160000Z
DTEND:20280304T190000Z
LOCATION:Localisation   
CATEGORIES:Sportif
STATUS:
URL;VALUE=URI:https://archers-de-quimperle.sportsregions.fr/evenements/2028/03/04/entrainement-libre-2428343
END:VEVENT
END:VCALENDAR
