BEGIN:VCALENDAR
VERSION:2.0
PRODID:-//hacksw/handcal//NONSGML v1.0//EN
BEGIN:VEVENT
SUMMARY:Entrainement libre
UID:91c45729-fd4b-4bfe-8203-a681819e67ea
DTSTART:20280311T160000Z
DTEND:20280311T190000Z
LOCATION:Localisation   
CATEGORIES:Sportif
STATUS:
URL;VALUE=URI:https://archers-de-quimperle.sportsregions.fr/evenements/2028/03/11/entrainement-libre-2428341
END:VEVENT
END:VCALENDAR
