BEGIN:VCALENDAR
VERSION:2.0
PRODID:-//hacksw/handcal//NONSGML v1.0//EN
BEGIN:VEVENT
SUMMARY:Cours deuxieme et +
UID:d3de62ff-d455-4220-8795-247813b59b5d
DTSTART:20280318T143000Z
DTEND:20280318T160000Z
LOCATION:Localisation   
CATEGORIES:Sportif
STATUS:
URL;VALUE=URI:https://archers-de-quimperle.sportsregions.fr/evenements/2028/03/18/cours-deuxieme-et-2428184
END:VEVENT
END:VCALENDAR
