BEGIN:VCALENDAR
VERSION:2.0
PRODID:-//hacksw/handcal//NONSGML v1.0//EN
BEGIN:VEVENT
SUMMARY:Cours premiere annee
UID:f89c9eb3-1391-4ff7-86c7-1c6e233d34a8
DTSTART:20280318T130000Z
DTEND:20280318T143000Z
LOCATION:Localisation   
CATEGORIES:Sportif
STATUS:
URL;VALUE=URI:https://archers-de-quimperle.sportsregions.fr/evenements/2028/03/18/cours-premiere-annee-2428030
END:VEVENT
END:VCALENDAR
