BEGIN:VCALENDAR
VERSION:2.0
PRODID:-//hacksw/handcal//NONSGML v1.0//EN
BEGIN:VEVENT
SUMMARY:Entrainement libre
UID:9d269db3-24ea-4a65-b3f9-688d92e47262
DTSTART:20280318T160000Z
DTEND:20280318T190000Z
LOCATION:Localisation   
CATEGORIES:Sportif
STATUS:
URL;VALUE=URI:https://archers-de-quimperle.sportsregions.fr/evenements/2028/03/18/entrainement-libre-2428338
END:VEVENT
END:VCALENDAR
