BEGIN:VCALENDAR
VERSION:2.0
PRODID:-//hacksw/handcal//NONSGML v1.0//EN
BEGIN:VEVENT
SUMMARY:Cours deuxieme et +
UID:b9f22c5f-3d0d-40f1-a5fd-9afa0e2f8d4a
DTSTART:20280325T143000Z
DTEND:20280325T160000Z
LOCATION:Localisation   
CATEGORIES:Sportif
STATUS:
URL;VALUE=URI:https://archers-de-quimperle.sportsregions.fr/evenements/2028/03/25/cours-deuxieme-et-2428193
END:VEVENT
END:VCALENDAR
