BEGIN:VCALENDAR
VERSION:2.0
PRODID:-//hacksw/handcal//NONSGML v1.0//EN
BEGIN:VEVENT
SUMMARY:Entrainement libre
UID:fd463e34-6358-4618-9bf9-28d4c36ba846
DTSTART:20280325T160000Z
DTEND:20280325T190000Z
LOCATION:Localisation   
CATEGORIES:Sportif
STATUS:
URL;VALUE=URI:https://archers-de-quimperle.sportsregions.fr/evenements/2028/03/25/entrainement-libre-2428347
END:VEVENT
END:VCALENDAR
