BEGIN:VCALENDAR
VERSION:2.0
PRODID:-//hacksw/handcal//NONSGML v1.0//EN
BEGIN:VEVENT
SUMMARY:Cours deuxieme et +
UID:e2cb6ae0-a2a5-4fde-89a8-f55911d128ce
DTSTART:20280401T133000Z
DTEND:20280401T150000Z
LOCATION:Localisation   
CATEGORIES:Sportif
STATUS:
URL;VALUE=URI:https://archers-de-quimperle.sportsregions.fr/evenements/2028/04/01/cours-deuxieme-et-2428199
END:VEVENT
END:VCALENDAR
